BEGIN:VCALENDAR
PRODID:-//AtrimLjungberg//Calendar//EN
VERSION:2.0
METHOD:PUBLISH
BEGIN:VEVENT
DTSTART:20270127T063000Z
DTEND:20270127T063000Z
DTSTAMP:20260422T004537Z
UID:ed37fc9f-ee60-4032-991c-6d6ffd68eafa
CREATED:20260422T004537Z
X-ALT-DESC;FMTTYPE=text/html:
DESCRIPTION:
LAST-MODIFIED:20260422T004537Z
LOCATION:
SEQUENCE:0
STATUS:CONFIRMED
SUMMARY:Bokslutskommuniké 2026
TRANSP:OPAQUE
END:VEVENT
END:VCALENDAR
