BEGIN:VCALENDAR
PRODID:-//AtrimLjungberg//Calendar//EN
VERSION:2.0
METHOD:PUBLISH
BEGIN:VEVENT
DTSTART:20270225T063000Z
DTEND:20270225T063000Z
DTSTAMP:20260422T004649Z
UID:bdf88866-09b2-49b3-b75f-010892f03bdb
CREATED:20260422T004649Z
X-ALT-DESC;FMTTYPE=text/html:
DESCRIPTION:
LAST-MODIFIED:20260422T004649Z
LOCATION:
SEQUENCE:0
STATUS:CONFIRMED
SUMMARY:Årsredovisning 2026
TRANSP:OPAQUE
END:VEVENT
END:VCALENDAR
