BEGIN:VCALENDAR
PRODID:-//AtrimLjungberg//Calendar//EN
VERSION:2.0
METHOD:PUBLISH
BEGIN:VEVENT
DTSTART:20261009T053000Z
DTEND:20261009T053000Z
DTSTAMP:20260422T004837Z
UID:faca778f-123e-4563-8ec2-bbe8b8b0903b
CREATED:20260422T004837Z
X-ALT-DESC;FMTTYPE=text/html:
DESCRIPTION:
LAST-MODIFIED:20260422T004837Z
LOCATION:
SEQUENCE:0
STATUS:CONFIRMED
SUMMARY:Delårsrapport januari-september 2026
TRANSP:OPAQUE
END:VEVENT
END:VCALENDAR
