BEGIN:VCALENDAR
PRODID:-//AtrimLjungberg//Calendar//EN
VERSION:2.0
METHOD:PUBLISH
BEGIN:VEVENT
DTSTART:20260703T053000Z
DTEND:20260703T053000Z
DTSTAMP:20260422T004656Z
UID:dc7c80b0-ca31-4873-9c3a-81258085d6e6
CREATED:20260422T004656Z
X-ALT-DESC;FMTTYPE=text/html:
DESCRIPTION:
LAST-MODIFIED:20260422T004656Z
LOCATION:
SEQUENCE:0
STATUS:CONFIRMED
SUMMARY:Delårsrapport januari-juni 2026
TRANSP:OPAQUE
END:VEVENT
END:VCALENDAR
