BEGIN:VCALENDAR
PRODID:-//AtrimLjungberg//Calendar//EN
VERSION:2.0
METHOD:PUBLISH
BEGIN:VEVENT
DTSTART:20270127T063000Z
DTEND:20270127T063000Z
DTSTAMP:20260422T022444Z
UID:68d05364-8d47-4181-9a64-bd47a623729a
CREATED:20260422T022444Z
X-ALT-DESC;FMTTYPE=text/html:
DESCRIPTION:
LAST-MODIFIED:20260422T022444Z
LOCATION:
SEQUENCE:0
STATUS:CONFIRMED
SUMMARY:Year-end Report 2026
TRANSP:OPAQUE
END:VEVENT
END:VCALENDAR
