BEGIN:VCALENDAR
PRODID:-//AtrimLjungberg//Calendar//EN
VERSION:2.0
METHOD:PUBLISH
BEGIN:VEVENT
DTSTART:20261009T053000Z
DTEND:20261009T053000Z
DTSTAMP:20260422T022704Z
UID:26f860c4-ec76-45c6-b2ae-138b995ce2c9
CREATED:20260422T022704Z
X-ALT-DESC;FMTTYPE=text/html:
DESCRIPTION:
LAST-MODIFIED:20260422T022704Z
LOCATION:
SEQUENCE:0
STATUS:CONFIRMED
SUMMARY:Interim report Jan-Sep 2026
TRANSP:OPAQUE
END:VEVENT
END:VCALENDAR
