BEGIN:VCALENDAR
PRODID:-//AtrimLjungberg//Calendar//EN
VERSION:2.0
METHOD:PUBLISH
BEGIN:VEVENT
DTSTART:20260703T053000Z
DTEND:20260703T053000Z
DTSTAMP:20260422T022407Z
UID:8c26b76e-0387-4c44-8ac7-8f57cfc22111
CREATED:20260422T022407Z
X-ALT-DESC;FMTTYPE=text/html:
DESCRIPTION:
LAST-MODIFIED:20260422T022407Z
LOCATION:
SEQUENCE:0
STATUS:CONFIRMED
SUMMARY:Interim report Jan-Jun 2026
TRANSP:OPAQUE
END:VEVENT
END:VCALENDAR
